Workbook

Sheet Introduction

Sheet Main
D2: Scenario 1 | E2: Scenario 2 | G2: Scenario 4 | H2: Scenario 5
D3: ODFM (non-HT), HT or VHT | E3: ODFM (non-HT), HT or VHT | G3: DL OFDMA | H3: DL OFDMA
A5: Adjusting the AIFS/backoff timer
B6: AIFS/DIFS | D6: AIFS[BE] | E6: AIFS[BE] | F6: AIFS/DIFS | G6: DIFS | H6: DIFS
B7: AIFSN | D7: =IF(D6=Basis!P5,Basis!Q5,IF(D6=Basis!P6,Basis!Q6,IF(D6=Basis!P7,Basis!Q7,IF(D6=Basis!P8,Basis!Q8,IF(D6=Basis!P9,Basis!Q9,""))))) -> 3 | E7: =IF(E6=Basis!P5,Basis!Q5,IF(E6=Basis!P6,Basis!Q6,IF(E6=Basis!P7,Basis!Q7,IF(E6=Basis!P8,Basis!Q8,IF(E6=Basis!P9,Basis!Q9,""))))) -> 3 | G7: =IF(G6=Basis!P5,Basis!Q5,IF(G6=Basis!P6,Basis!Q6,IF(G6=Basis!P7,Basis!Q7,IF(G6=Basis!P8,Basis!Q8,IF(G6=Basis!P9,Basis!Q9,""))))) -> 2 | H7: =IF(H6=Basis!P5,Basis!Q5,IF(H6=Basis!P6,Basis!Q6,IF(H6=Basis!P7,Basis!Q7,IF(H6=Basis!P8,Basis!Q8,IF(H6=Basis!P9,Basis!Q9,""))))) -> 2
B8: Contention Window | D8: 8 | E8: 8 | F8: Contention Window | G8: 8 | H8: 8
A10: Lowest mandatory rate.
B11: Data Rate Control frames | D11: 6 mb/s | E11: 6 mb/s | F11: Data Rate Control frames | G11: 6 mb/s | H11: 6 mb/s
B12: modulation | D12: =IF(D11=Basis!C31,Basis!D31,IF(D11=Basis!C32,Basis!D32,IF(D11=Basis!C33,Basis!D33))) -> BPSK 1/2 | E12: =IF(E11=Basis!C31,Basis!D31,IF(E11=Basis!C32,Basis!D32,IF(E11=Basis!C33,Basis!D33))) -> BPSK 1/2 | F12: modulation&coding | G12: =IF(G11=Basis_HE!B52,Basis_HE!C52,IF(G11=Basis_HE!B53,Basis_HE!C53,IF(G11=Basis_HE!B54,Basis_HE!C54,""))) -> BPSK 1/2 | H12: =IF(H11=Basis_HE!B52,Basis_HE!C52,IF(H11=Basis_HE!B53,Basis_HE!C53,IF(H11=Basis_HE!B54,Basis_HE!C54,""))) -> BPSK 1/2
B13: bits pr subcarrier | D13: =IF(D11=Basis!C31,Basis!E31,IF(D11=Basis!C32,Basis!E32,IF(D11=Basis!C33,Basis!E33))) -> 1 | E13: =IF(E11=Basis!C31,Basis!E31,IF(E11=Basis!C32,Basis!E32,IF(E11=Basis!C33,Basis!E33))) -> 1 | F13: bits pr subcarrier | G13: =IF(G11=Basis_HE!B52,Basis_HE!D52,IF(G11=Basis_HE!B53,Basis_HE!D53,IF(G11=Basis_HE!B54,Basis_HE!D54,""))) -> 1 | H13: =IF(H11=Basis_HE!B52,Basis_HE!D52,IF(H11=Basis_HE!B53,Basis_HE!D53,IF(H11=Basis_HE!B54,Basis_HE!D54,""))) -> 1
B14: coding value | D14: =IF(D11=Basis!C31,Basis!F31,IF(D11=Basis!C32,Basis!F32,IF(D11=Basis!C33,Basis!F33))) -> 0.5 | E14: =IF(E11=Basis!C31,Basis!F31,IF(E11=Basis!C32,Basis!F32,IF(E11=Basis!C33,Basis!F33))) -> 0.5 | F14: coding value | G14: =IF(G11=Basis_HE!B52,Basis_HE!E52,IF(G11=Basis_HE!B53,Basis_HE!E53,IF(G11=Basis_HE!B54,Basis_HE!E54,""))) -> 0.5 | H14: =IF(H11=Basis_HE!B52,Basis_HE!E52,IF(H11=Basis_HE!B53,Basis_HE!E53,IF(H11=Basis_HE!B54,Basis_HE!E54,""))) -> 0.5
A17: Setup speed rate for data frames
B19: PHY | D19: 20MHz VHT | E19: 20MHz VHT | F19: RU | G19: 106 Tones RU | H19: 52 Tones RU
B20: data subcarriers | D20: =IF(Main!D19=Basis!F5,48,IF(OR(Main!D19=Basis!F6,Main!D19=Basis!F7),52,IF(OR(Main!D19=Basis!F8,Main!D19=Basis!F9),108,IF(Main!D19=Basis!F10,234,"")))) -> 52 | E20: =IF(Main!E19=Basis!F5,48,IF(OR(Main!E19=Basis!F6,Main!E19=Basis!F7),52,IF(OR(Main!E19=Basis!F8,Main!E19=Basis!F9),108,IF(Main!E19=Basis!F10,234,"")))) -> 52 | F20: data subcarriers | G20: =IF(G19=Basis_HE!B8,Basis_HE!C8,IF(G19=Basis_HE!B7,Basis_HE!C7,IF(G19=Basis_HE!B6,Basis_HE!C6,Basis_HE!C5))) -> 102 | H20: =IF(H19=Basis_HE!B8,Basis_HE!C8,IF(H19=Basis_HE!B7,Basis_HE!C7,IF(H19=Basis_HE!B6,Basis_HE!C6,Basis_HE!C5))) -> 48
B21: Modulation and Coding | D21: mcs7, 64-QAM 5/6 | E21: mcs7, 64-QAM 5/6 | F21: Modulation and Coding | G21: mcs7 (64-QAM 5/6) | H21: mcs7 (64-QAM 5/6)
B22: bits pr subcarrier | D22: =IF(D21=Basis!C5,"1",IF(D21=Basis!C6,1,(IF(D21=Basis!C7,"2",IF(D21=Basis!C8,"2",IF(D21=Basis!C9,"4",IF(D21=Basis!C10,"4",IF(D21=Basis!C11,"6",IF(D21=Basis!C12,"6",IF(D21=Basis!C13,"6",IF(D21=Basis!C14,8,IF(D21=Basis!C15,8,0)))))))))))) -> 6 | E22: =IF(E21=Basis!C5,"1",IF(E21=Basis!C6,1,IF(E21=Basis!C7,"2",IF(E21=Basis!C8,"2",IF(E21=Basis!C9,"4",IF(E21=Basis!C10,"4",IF(E21=Basis!C11,"6",IF(E21=Basis!C12,"6",IF(E21=Basis!C13,"6",IF(E21=Basis!C14,8,IF(E21=Basis!C15,8,0))))))))))) -> 6 | F22: bits pr subcarrier | G22: =IF(G21=Basis_HE!B16,Basis_HE!C16,IF(G21=Basis_HE!B17,Basis_HE!C17,IF(G21=Basis_HE!B18,Basis_HE!C18,IF(G21=Basis_HE!B19,Basis_HE!C19,IF(G21=Basis_HE!B20,Basis_HE!C20,IF(G21=Basis_HE!B21,Basis_HE!C21,IF(G21=Basis_HE!B22,Basis_HE!C22,IF(G21=Basis_HE!B23,Basis_HE!C23,IF(G21=Basis_HE!B24,Basis_HE!C24,IF(G21=Basis_HE!B25,Basis_HE!C25,IF(G21=Basis_HE!B26,Basis_HE!C26,IF(G21=Basis_HE!B27,Basis_HE!C27,"")))))))))))) -> 6 | H22: =IF(H21=Basis_HE!B16,Basis_HE!C16,IF(H21=Basis_HE!B17,Basis_HE!C17,IF(H21=Basis_HE!B18,Basis_HE!C18,IF(H21=Basis_HE!B19,Basis_HE!C19,IF(H21=Basis_HE!B20,Basis_HE!C20,IF(H21=Basis_HE!B21,Basis_HE!C21,IF(H21=Basis_HE!B22,Basis_HE!C22,IF(H21=Basis_HE!B23,Basis_HE!C23,IF(H21=Basis_HE!B24,Basis_HE!C24,IF(H21=Basis_HE!B25,Basis_HE!C25,IF(H21=Basis_HE!B26,Basis_HE!C26,IF(H21=Basis_HE!B27,Basis_HE!C27,"")))))))))))) -> 6
B23: coding value | D23: =IF(D21=Basis!C5,1/2,IF(D21=Basis!C6,3/4,IF(D21=Basis!C7,1/2,IF(D21=Basis!C8,3/4,IF(D21=Basis!C9,1/2,IF(D21=Basis!C10,3/4,IF(D21=Basis!C11,2/3,IF(D21=Basis!C12,3/4,IF(D21=Basis!C13,5/6,IF(D21=Basis!C14,3/4,IF(D21=Basis!C15,5/6,"0"))))))))))) -> 0.83333333 | E23: =IF(E21=Basis!C5,1/2,IF(E21=Basis!C6,3/4,IF(E21=Basis!C7,1/2,IF(E21=Basis!C8,3/4,IF(E21=Basis!C9,1/2,IF(E21=Basis!C10,3/4,IF(E21=Basis!C11,2/3,IF(E21=Basis!C12,3/4,IF(E21=Basis!C13,5/6,IF(E21=Basis!C14,3/4,IF(E21=Basis!C15,5/6,"0"))))))))))) -> 0.83333333 | F23: coding value | G23: =IF(G21=Basis_HE!B16,Basis_HE!D16,IF(G21=Basis_HE!B17,Basis_HE!D17,IF(G21=Basis_HE!B18,Basis_HE!D18,IF(G21=Basis_HE!B19,Basis_HE!D19,IF(G21=Basis_HE!B20,Basis_HE!D20,IF(G21=Basis_HE!B21,Basis_HE!D21,IF(G21=Basis_HE!B22,Basis_HE!D22,IF(G21=Basis_HE!B23,Basis_HE!D23,IF(G21=Basis_HE!B24,Basis_HE!D24,IF(G21=Basis_HE!B25,Basis_HE!D25,IF(G21=Basis_HE!B26,Basis_HE!D26,IF(G21=Basis_HE!B27,Basis_HE!D27,"")))))))))))) -> 0.83333333 | H23: =IF(H21=Basis_HE!B16,Basis_HE!D16,IF(H21=Basis_HE!B17,Basis_HE!D17,IF(H21=Basis_HE!B18,Basis_HE!D18,IF(H21=Basis_HE!B19,Basis_HE!D19,IF(H21=Basis_HE!B20,Basis_HE!D20,IF(H21=Basis_HE!B21,Basis_HE!D21,IF(H21=Basis_HE!B22,Basis_HE!D22,IF(H21=Basis_HE!B23,Basis_HE!D23,IF(H21=Basis_HE!B24,Basis_HE!D24,IF(H21=Basis_HE!B25,Basis_HE!D25,IF(H21=Basis_HE!B26,Basis_HE!D26,IF(H21=Basis_HE!B27,Basis_HE!D27,"")))))))))))) -> 0.83333333
B24: Spatial streams | D24: 1 | E24: 1 | F24: Spatial streams | G24: 1 | H24: 1
B25: Guard Interval | D25: 0.4 | E25: 0.4 | F25: Guard Interval | G25: 1.6 | H25: 1.6
B28: Speed Rate A-MPDUs | D28: =D20*D22*D23*D24/(3.2+D25) -> 72.222222 | E28: =E20*E22*E23*E24/(3.2+E25) -> 72.222222 | F28: Speed Rate A-MPDU in RU | G28: =G20*G22*G23*G24/(12.8+G25) -> 35.416667 | H28: =H20*H22*H23*H24/(12.8+H25) -> 16.666667
A29: Calculated User Data Speed Rate. It should be same as from www.mcsindex.com for mcs rates | F29: It should be same as mcs rates at www.semfionetworks.com
A32: Setting different sizes for our packets. RTS and CTS should not be changed. RTS is 20 bytes, CTS and ACK is 14 bytes, B-ACK is between 34 and many more bytes
B33: RTS, bytes | D33: 20 | E33: 20 | F33: MU-RTS, Users | G33: 2 | H33: 4
B34: Symbols RTS | D34: =ROUNDUP((16+D33*8+6)/(48*D14*D13),0) -> 8 | E34: =ROUNDUP((16+E33*8+6)/(48*E14*E13),0) -> 8 | F34: Bits MU-RTS (-padding) | G34: =IF(G33=1,160,16*4+64+G33*40+40+4*8) -> 280 | H34: =IF(H33=1,160,16*4+64+H33*40+40+4*8) -> 360
B35: CTS, bytes | D35: 14 | E35: 14 | F35: Symbols MU-RTS | G35: =ROUNDUP((16+G34+6)/(48*G13*G14),0) -> 13 | H35: =ROUNDUP((16+H34+6)/(48*H13*H14),0) -> 16
B36: symbols CTS | D36: =ROUNDUP((16+D35*8+6)/(48*D14*D13),0) -> 6 | E36: =ROUNDUP((16+E35*8+6)/(48*E14*E13),0) -> 6 | F36: Symbols CTS, 14 bytes | G36: =ROUNDUP((16+8*14+6)/(48*G13*G14),0) -> 6 | H36: =ROUNDUP((16+8*14+6)/(48*H13*H14),0) -> 6
B37: ACK/B-ACK, bytes | D37: 34 | E37: 34 | F37: Symbols B-ACK, 34 bytes | G37: =ROUNDUP((16+34*8+6)/(G20*1*0.5*1),0) -> 6 | H37: =ROUNDUP((16+34*8+6)/(H20*1*0.5*1),0) -> 13
B38: symbols ACK | D38: =ROUNDUP((16+D37*8+6)/(48*D14*D13),0) -> 13 | E38: =ROUNDUP((16+E37*8+6)/(48*E14*E13),0) -> 13 | F38: MCS HE-SIG-B | G38: mcs0 (BPSK 1/2) | H38: mcs0 (BPSK 1/2)
B39: A-MPDU, bytes | D39: 300 | E39: 300 | F39: Bits pr symbol HE-SIG-B | G39: =IF(G38=Basis_HE!B31,52*1*0.5,IF(G38=Basis_HE!B32,52*2*0.5,IF(G38=Basis_HE!B33,52*1*0.75,IF(G38=Basis_HE!B34,52*4*0.5,IF(G38=Basis_HE!B35,52*4*0.75,IF(G38=Basis_HE!B36,52*6*0.67,0)))))) -> 26 | H39: =IF(H38=Basis_HE!B31,52*1*0.5,IF(H38=Basis_HE!B32,52*2*0.5,IF(H38=Basis_HE!B33,52*1*0.75,IF(H38=Basis_HE!B34,52*4*0.5,IF(H38=Basis_HE!B35,52*4*0.75,IF(H38=Basis_HE!B36,52*6*0.67,0)))))) -> 26
B40: databits to send | D40: =16+D39*8+6 -> 2422 | E40: =16+E39*8+6 -> 2422 | F40: bits HE-SIG-B | G40: =IF(G19=Basis_HE!B5,257,IF(G19=Basis_HE!B6,153,IF(G19=Basis_HE!B7,70,70))) -> 70 | H40: =IF(H19=Basis_HE!B5,257,IF(H19=Basis_HE!B6,153,IF(H19=Basis_HE!B7,70,70))) -> 153
B41: databits pr symbol | D41: =D20*D22*D23*D24 -> 260 | E41: =E20*E22*E23*E24 -> 260 | F41: symbols HE-SIG-B | G41: =IF(G40=0,0,ROUNDUP(G40/G39,0)) -> 3 | H41: =IF(H40=0,0,ROUNDUP(H40/H39,0)) -> 6
B42: symbols A-MPDU | D42: =ROUNDUP(D40/(D20*D22*D23*D24),0) -> 10 | E42: =ROUNDUP(E40/(E20*E22*E23*E24),0) -> 10 | F42: A-MPDU, bytes | G42: 300 | H42: 300
F43: databits to send | G43: =16+8*G42+6 -> 2422 | H43: =16+8*H42+6 -> 2422
F44: databits pr symbol | G44: =G20*G22*G23*G24 -> 510 | H44: =H20*H22*H23*H24 -> 240
F45: symbols A-MPDU | G45: =ROUNDUP(G43/(G20*G22*G23*G24),0) -> 5 | H45: =ROUNDUP(H43/(H20*H22*H23*H24),0) -> 11
B47: Protection on/off | D47: 1 | E47: 1 | F47: Protection on/off | G47: 1 | H47: 1
D52: Durations scenario 1 | E52: Durations scenario 2 | G52: Durations scenario 4 | H52: Durations scenario 5
B53: DIFS/AIFS | C53: DIFS | D53: =D7*Basis!D25+Basis!D23 -> 43 | E53: =E7*Basis!D25+Basis!D23 -> 43 | F53: DIFS | G53: =G7*Basis!D25+Basis!D23 -> 34 | H53: =H7*Basis!D25+Basis!D23 -> 34
B54: Random backoff timer/CW | C54: CW | D54: =D8*Basis!D25 -> 72 | E54: =E8*Basis!D25 -> 72 | F54: Backoff timer/AIFS | G54: =G8*Basis!D25 -> 72 | H54: =H8*Basis!D25 -> 72
B55: Legacy preamble | C55: LP | D55: =Basis!D24*D47 -> 20 | E55: =Basis!D24*E47 -> 20 | F55: Legacy preamble | G55: 20 | H55: 20
B56: RTS | C56: RTS | D56: =D34*Basis!D26*D47 -> 32 | E56: =E34*Basis!D26*E47 -> 32 | F56: MU-RTS | G56: =G35*4 -> 52 | H56: =H35*4 -> 64
B57: SIFS | C57: SIFS | D57: =Basis!D23*D47 -> 16 | E57: =Basis!D23*E47 -> 16 | F57: SIFS | G57: 16 | H57: 16
B58: Legacy preamble | C58: LP | D58: =Basis!D24*D47 -> 20 | E58: =Basis!D24*E47 -> 20 | F58: Legacy preamble | G58: 20 | H58: 20
B59: CTS | C59: CTS | D59: =D36*Basis!D26*D47 -> 24 | E59: =E36*Basis!D26*E47 -> 24 | F59: CTS | G59: =G36*4 -> 24 | H59: =H36*4 -> 24
B60: SIFS | C60: SIFS | D60: =Basis!D23*D47 -> 16 | E60: =Basis!D23*E47 -> 16 | F60: SIFS | G60: 16 | H60: 16
B61: Legacy preamble | C61: LP | D61: =Basis!D24 -> 20 | E61: =Basis!D24 -> 20 | F61: Legacy preamble | G61: 20 | H61: 20
B62: HT/VHT preamble | C62: HT/VHT/HE | D62: =IF(D19=Basis!F5,0,IF(OR(D19=Basis!F6,Basis!F8),12+D24*4,16+D24*4)) -> 20 | E62: =IF(E19=Basis!F5,0,IF(OR(E19=Basis!F6,Basis!F8),12+E24*4,16+E24*4)) -> 20 | F62: HE preamble | G62: =(4+4+G41*4+4+2*4) -> 32 | H62: =(4+4+H41*4+4+4*2) -> 44
B64: A-MPDU | C64: A-MPDU | D64: =IF(D25=Basis!K5,D42*3.6,D42*4) -> 36 | E64: =IF(E25=Basis!K5,E42*3.6,E42*4) -> 36 | F64: A-MPDU | G64: =G45*(12.8+G25) -> 72 | H64: =H45*(12.8+H25) -> 158.4
B65: SIFS | C65: SIFS | D65: =Basis!D23 -> 16 | E65: =Basis!D23 -> 16 | F65: SIFS | G65: 16 | H65: 16
B66: Legacy preamble | C66: LP | D66: =Basis!D24 -> 20 | E66: =Basis!D24 -> 20 | F66: Legacy preamble | G66: 20 | H66: 20
B67: ACK/B-ACK | C67: B-ACK | D67: =D38*Basis!D26 -> 52 | E67: =E38*Basis!D26 -> 52 | F67: ACK/B-ACK | G67: =G37*4 -> 24 | H67: =H37*4 -> 52
B69: Duration including DIFS&CW | D69: =SUM(D53:D67) -> 407 | E69: =SUM(E53:E67) -> 407 | F69: Duration inc DIFS&CW | G69: =SUM(G53:G67) -> 438 | H69: =SUM(H53:H67) -> 576.4
B70: Duration excluding DIFS&CW | D70: =SUM(D55:D67) -> 292 | E70: =SUM(E55:E67) -> 292 | F70: Duration exc DIFS&CW | G70: =SUM(G55:G67) -> 332 | H70: =SUM(H55:H67) -> 470.4
B72: Throughput | D72: =(D39*8)/D69 -> 5.8968059 | E72: =(E39*8)/E69 -> 5.8968059 | G72: =(G42*8)/G69 -> 5.4794521 | H72: =(H42*8)/H69 -> 4.1637752
D158: HE, Scenario 1 | E158: non-HT, HT, VHT scenario 2 | F158: non-HT, HT, VHT scenario 1
B159: DIFS | D159: =G53 -> 34 | E159: =E53 -> 43 | F159: =D53 -> 43
B160: Backoff timer/AIFS | D160: =G54 -> 72 | E160: =E54 -> 72 | F160: =D54 -> 72
B161: Legacy preamble | D161: =G55 -> 20 | E161: =E55 -> 20 | F161: =D55 -> 20
B162: RTS | D162: =G56 -> 52 | E162: =E56 -> 32 | F162: =D56 -> 32
B163: SIFS | D163: =G57 -> 16 | E163: =E57 -> 16 | F163: =D57 -> 16
B164: Legacy preamble | D164: =G58 -> 20 | E164: =E58 -> 20 | F164: =D58 -> 20
B165: CTS | D165: =G59 -> 24 | E165: =E59 -> 24 | F165: =D59 -> 24
B166: SIFS | D166: =G60 -> 16 | E166: =E60 -> 16 | F166: =D60 -> 16
B167: Legacy preamble | D167: =G61 -> 20 | E167: =E61 -> 20 | F167: =D61 -> 20
B168: HT/VHT preamble | D168: =G62 -> 32 | E168: =E62 -> 20 | F168: =D62 -> 20
D169: =G63 -> 0 | E169: =E63 -> 0 | F169: =D63 -> 0
B170: A-MPDU | D170: =G64 -> 72 | E170: =E64 -> 36 | F170: =D64 -> 36
B171: SIFS | D171: =G65 -> 16 | E171: =E65 -> 16 | F171: =D65 -> 16
B172: Legacy preamble | D172: =G66 -> 20 | E172: =E66 -> 20 | F172: =D66 -> 20
B173: ACK/B-ACK | D173: =G67 -> 24 | E173: =E67 -> 52 | F173: =D67 -> 52

Sheet Formulas

Sheet Basis
A3: CW | C3: Modulation and coding | F3: PHY | I3: Spatial streams | K3: Guard interval | N3: Protection
A4: 0
A5: 1 | C5: mcs0, BPSK 1/2 (or 6mbs for nonHT) | F5: 20MHz OFDM (nonHT) | G5: 48 | I5: 1 | K5: 0.4 | M5: 0 | P5: DIFS | Q5: 2
A6: 2 | C6: ….. ….BPSK 3/4 (NA for HT/VHT, 9 mbs for nonHT) | F6: 20MHz HT | G6: 52 | I6: 2 | K6: 0.8 | M6: 1 | P6: AIFS[BK] | Q6: 7
A7: 3 | C7: mcs1, QPSK 1/2 (or 12 mbs for nonHT) | F7: 20MHz VHT | G7: 52 | I7: 3 | P7: AIFS[BE] | Q7: 3
A8: 4 | C8: mcs2, QPSK 3/4 (or 18 mbs for nonHT) | F8: 40MHZ HT | G8: 108 | I8: 4 | P8: AIFS[VI] | Q8: 2
A9: 5 | C9: mcs3, 16-QAM 1/2 (or 24 mbs for nonHT) | F9: 40MHZ VHT | G9: 108 | P9: AIFS[VO] | Q9: 2
A10: 6 | C10: mcs4, 16-QAM 3/4 (or 36 mbs for nonHT) | F10: 80MHz VHT | G10: 234
A11: 7 | C11: mcs5, 64-QAM 2/3 (or 48mbs for nonHT)
A12: 8 | C12: mcs6, 64-QAM 3/4 (or 54 mbs for nonHT)
A13: 9 | C13: mcs7, 64-QAM 5/6
A14: 10 | C14: mcs8, 256-QAM 3/4 (VHT only)
A15: 11 | C15: mcs9, 256-QAM 5/6 (VHT only)
A16: 12
A17: 13
A18: 14
A19: 15
C22: DIFS | D22: 34
C23: SIFS | D23: 16
C24: Legacy preamble | D24: 20
C25: Slot time | D25: 9
C26: Legacy Symbol time | D26: 4
C31: 6 mb/s | D31: BPSK 1/2 | E31: 1 | F31: 0.5
C32: 12 mb/s | D32: QPSK 1/2 | E32: 2 | F32: 0.5
C33: 24 mb/s | D33: 16-QAM 1/2 | E33: 4 | F33: 0.5

Sheet Basis_HE
B4: Allocated User Rus | C4: Data Tones/Data Subcarriers | H4: HE-SIG-B in 20MHz
B5: 26 Tones RU | C5: 24 | H5: Common field | I5: 18 | J5: bits
B6: 52 Tones RU | C6: 48 | H6: User Block field | I6: Two User field+CRC-Tail
B7: 106 Tones RU | C7: 102 | H7: Last User Block field | I7: One or two User field+CRC+Tail
B8: 242 Tones RU | C8: 234 | H8: Padding to fill up the last symbol
H10: 26 Tone RU | I10: Common Field+ four User Block field for RU1-8+User Block field for RU9
I11: 18+4*52+1*31 | J11: =18+4*52+1*31 -> 257 | K11: bits
H12: 52 Tone RU | I12: Common Field+ two User Block field for RU1-4+ one User Block field for RU9
I13: 18+2*52+1*31 | J13: =18+2*52+1*31 -> 153 | K13: bits
H14: 106 Tone RU | I14: Common Field+ one User Block field for RU1-2
B15: MCS | C15: bit pr symbol pr subcarrier | D15: coding value | I15: 18+1*52 | J15: =18+1*52 -> 70 | K15: bits
B16: mcs0 (BPSK 1/2) | C16: 1 | D16: 0.5 | H16: 242 Tone RU | I16: Common Field+ one User Block field for RU1-2
B17: mcs1 (QPSK 1/2) | C17: 2 | D17: 0.5 | I17: 18+1*52 | J17: =18+1*52 -> 70 | K17: bits
B18: msc2 (QPSK 3/4) | C18: 2 | D18: 0.75
B19: mcs3 (16-QAM 1/2) | C19: 4 | D19: 0.5
B20: mcs4 (16-QAM 3/4) | C20: 4 | D20: 0.75 | H20: MU-RTS
B21: mcs5 (64-QAM 2/3) | C21: 6 | D21: 0.66666667 | H21: MAC header | I21: 16 | J21: bytes
B22: mcs6 (64-QAM 3/4) | C22: 6 | D22: 0.75 | H22: Common info | I22: 64 | J22: bits
B23: mcs7 (64-QAM 5/6) | C23: 6 | D23: 0.83333333 | H23: User Info field each user | I23: 40 | J23: bits
B24: mcs8 (256-QAM 3/4) | C24: 8 | D24: 0.75 | H24: Last User info field | I24: 40 | J24: bits
B25: mcs9 (256-QAM 5/6) | C25: 8 | D25: 0.83333333 | H25: Padding
B26: mcs10 (1024-QAM 3/4) | C26: 10 | D26: 0.75 | H26: FCS | I26: 4 | J26: bytes
B27: mcs11 (1024-QAM 5/6) | C27: 10 | D27: 0.83333333
B30: SIGB MCS | C30: bit pr symbol pr subcarrier | D30: coding value
B31: mcs0 (BPSK 1/2) | C31: 1 | D31: 0.5
B32: mcs1 (QPSK 1/2) | C32: 2 | D32: 0.5
B33: msc2 (QPSK 3/4) | C33: 2 | D33: 0.75
B34: mcs3 (16-QAM 1/2) | C34: 4 | D34: 0.5
B35: mcs4 (16-QAM 3/4) | C35: 4 | D35: 0.75
B36: mcs5 (64-QAM 2/3) | C36: 6 | D36: 0.66666667
B39: Users | C39: Spatial Streams | D39: Guard Interval | E39: Protection
B40: 1 | C40: 1 | D40: 0.8 | E40: 0
B41: 2 | C41: 2 | D41: 1.6 | E41: 1
B42: 3 | C42: 3 | D42: 3.2
B43: 4 | C43: 4
B44: 5
B45: 6
B46: 7
B47: 8
B48: 9
B51: Data Rate Control Frames | D51: Bit pr subcarrier | E51: Coding Value
B52: 6 mb/s | C52: BPSK 1/2 | D52: 1 | E52: 0.5
B53: 12 mb/s | C53: QPSK 1/2 | D53: 2 | E53: 0.5
B54: 24 mb/s | C54: 16-QAM 1/2 | D54: 4 | E54: 0.5
B60: Control Packets
B61: RTS | C61: 20
B62: CTS | C62: 14
B63: B-ACK | C63: 34
